BEGIN:VCALENDAR
VERSION:2.0
PRODID:icalendar-ruby
CALSCALE:GREGORIAN
METHOD:PUBLISH
BEGIN:VEVENT
DTSTAMP:20260420T034011Z
UID:14-455553@fremontchristianchurch.org
DTSTART:20260515T150000Z
DTEND:20260515T230000Z
CLASS:PUBLIC
CREATED:20260419T115301
DESCRIPTION:MAY 14\, 15 and 16\nTHURSDAY: 8:00 AM to 4:00 PM LUNCH 11:00 TO
  2:00\nFRIDAY: 8:00 AM to 4:00 PM LUNCH 11:00 TO 2:00\nSATURDAY: 9:00 AM T
 O 1:00 PM\nCorner of Elm and Division in Fremont\nOne Block North of the D
 owntown Stop Light\nParking entrance from Elm or Dayton Streets\nGAMES\, T
 OYS\, CLOTHING\, SPORTS ITEMS\, PLANTS\, \nPICTURES \nChristian Women’
 s Fellowship Sponsored lunch from 11:00—2:00\, serving sloppy joes\, hot
  dogs/Coney dogs\, potato salad\, chips and drinks. Reasonable pricing.  
 Take out is available.   
LAST-MODIFIED:20260419T115301
LOCATION:FREMONT CHRISTIAN CHURCH
SUMMARY:ANNUAL YARD SALE - FRIDAY
URL;VALUE=URI:https://fremontchristianchurch.org/events/annual-yard-sale-fr
 iday/2026-05-15
ATTACH;FILENAME=IMG_0614.jpeg;FMTTYPE=image/jpeg:https://dq5pwpg1q8ru0.clou
 dfront.net/2026/04/19/18/53/00/474953af-6cf4-4246-8a4b-e35041556105/IMG_06
 14.jpeg
END:VEVENT
END:VCALENDAR
