BEGIN:VCALENDAR
VERSION:2.0
PRODID:icalendar-ruby
CALSCALE:GREGORIAN
METHOD:PUBLISH
BEGIN:VEVENT
DTSTAMP:20260420T034424Z
UID:13-455552@fremontchristianchurch.org
DTSTART:20260514T150000Z
DTEND:20260514T230000Z
CLASS:PUBLIC
CREATED:20260419T115123
DESCRIPTION:MAY 14\, 15 and 16\nTHURSDAY: 8:00 AM to 4:00 PM LUNCH 11:00 TO
  2:00\nFRIDAY: 8:00 AM to 4:00 PM LUNCH 11:00 TO 2:00\nSATURDAY: 9:00 AM T
 O 1:00 PM\nCorner of Elm and Division in Fremont\nOne Block North of the D
 owntown Stop Light\nParking entrance from Elm or Dayton Streets\nGAMES\, T
 OYS\, CLOTHING\, SPORTS ITEMS\, PLANTS\, \nPICTURES \nChristian Women’
 s Fellowship Sponsored lunch from 11:00—2:00\, serving sloppy joes\, hot
  dogs/Coney dogs\, potato salad\, chips and drinks. Reasonable pricing.  
 Take out is available.   
LAST-MODIFIED:20260419T115123
LOCATION:FREMONT CHRISTIAN CHURCH
SUMMARY:ANNUAL YARD SALE - THURSDAY
URL;VALUE=URI:https://fremontchristianchurch.org/events/annual-yard-sale-th
 ursday/2026-05-14
ATTACH;FILENAME=IMG_0614.jpeg;FMTTYPE=image/jpeg:https://dq5pwpg1q8ru0.clou
 dfront.net/2026/04/19/18/51/22/5c3af54b-c424-4f3d-a610-96d76f7fcb7f/IMG_06
 14.jpeg
END:VEVENT
END:VCALENDAR
